BEGIN:VCALENDAR
VERSION:2.0
PRODID:-//Conway Village Congregational Church - ECPv6.13.1//NONSGML v1.0//EN
CALSCALE:GREGORIAN
METHOD:PUBLISH
X-WR-CALNAME:Conway Village Congregational Church
X-ORIGINAL-URL:https://www.thebrownchurch.org
X-WR-CALDESC:Events for Conway Village Congregational Church
REFRESH-INTERVAL;VALUE=DURATION:PT1H
X-Robots-Tag:noindex
X-PUBLISHED-TTL:PT1H
BEGIN:VTIMEZONE
TZID:America/Halifax
BEGIN:DAYLIGHT
TZOFFSETFROM:-0400
TZOFFSETTO:-0300
TZNAME:ADT
DTSTART:20190310T060000
END:DAYLIGHT
BEGIN:STANDARD
TZOFFSETFROM:-0300
TZOFFSETTO:-0400
TZNAME:AST
DTSTART:20191103T050000
END:STANDARD
END:VTIMEZONE
BEGIN:VEVENT
DTSTART;TZID=America/Halifax:20190929T090000
DTEND;TZID=America/Halifax:20190929T200000
DTSTAMP:20260422T185506
CREATED:20191002T225042Z
LAST-MODIFIED:20191002T190426Z
UID:549-1569747600-1569787200@www.thebrownchurch.org
SUMMARY:CVCC at the Fryeburg Fair
DESCRIPTION:Come enjoy some Apple Crisp at the Fryeburg Fair
URL:https://www.thebrownchurch.org/event/cvcc-at-the-fryeburg-fair/
LOCATION:Fryeburg\, Maine\, 1154 Main St\, Fryeburg\, ME\, 04037\, United States
CATEGORIES:CVCC Events
ATTACH;FMTTYPE=image/jpeg:https://www.thebrownchurch.org/wp-content/uploads/2019/10/CVCC-fair.jpg
ORGANIZER;CN="":MAILTO:rose@peponline.com
END:VEVENT
END:VCALENDAR