BEGIN:VCALENDAR
VERSION:2.0
PRODID:-//Conway Village Congregational Church - ECPv6.13.1//NONSGML v1.0//EN
CALSCALE:GREGORIAN
METHOD:PUBLISH
X-WR-CALNAME:Conway Village Congregational Church
X-ORIGINAL-URL:https://www.thebrownchurch.org
X-WR-CALDESC:Events for Conway Village Congregational Church
REFRESH-INTERVAL;VALUE=DURATION:PT1H
X-Robots-Tag:noindex
X-PUBLISHED-TTL:PT1H
BEGIN:VTIMEZONE
TZID:America/New_York
BEGIN:DAYLIGHT
TZOFFSETFROM:-0500
TZOFFSETTO:-0400
TZNAME:EDT
DTSTART:20230312T070000
END:DAYLIGHT
BEGIN:STANDARD
TZOFFSETFROM:-0400
TZOFFSETTO:-0500
TZNAME:EST
DTSTART:20231105T060000
END:STANDARD
END:VTIMEZONE
BEGIN:VEVENT
DTSTART;TZID=America/New_York:20230520T090000
DTEND;TZID=America/New_York:20230520T140000
DTSTAMP:20260422T022542
CREATED:20230415T135814Z
LAST-MODIFIED:20230415T154928Z
UID:6916-1684573200-1684591200@www.thebrownchurch.org
SUMMARY:Spring Fling 2023
DESCRIPTION:Conway Village Church Spring Fling Saturday May 20th 9 AM ~ 2 PM \n \nThis community event features a Yard Sale with goods from our membership and friends of the church. Plant sale from local gardens\, Craft tables\, Bake Sale\, Pick-A-Prize featuring gift baskets and prizes from Conway Village and businesses throughout the Mt Washington Valley. \nLunch Served: 11:30 – 1:30  Pulled Pork Sandwiches and more \n 
URL:https://www.thebrownchurch.org/event/spring-fling-2/
LOCATION:Conway Village Congregational Church\, 132 Main St\, Conway\, NH\, 03818\, United States
CATEGORIES:CVCC Events
END:VEVENT
END:VCALENDAR